BEGIN:VCALENDAR
VERSION:2.0
PRODID:-//Rebuilding Hope - ECPv6.15.17.1//NONSGML v1.0//EN
CALSCALE:GREGORIAN
METHOD:PUBLISH
X-ORIGINAL-URL:https://rebuildinghopeministries.org
X-WR-CALDESC:Events for Rebuilding Hope
REFRESH-INTERVAL;VALUE=DURATION:PT1H
X-Robots-Tag:noindex
X-PUBLISHED-TTL:PT1H
BEGIN:VTIMEZONE
TZID:America/New_York
BEGIN:DAYLIGHT
TZOFFSETFROM:-0500
TZOFFSETTO:-0400
TZNAME:EDT
DTSTART:20200308T070000
END:DAYLIGHT
BEGIN:STANDARD
TZOFFSETFROM:-0400
TZOFFSETTO:-0500
TZNAME:EST
DTSTART:20201101T060000
END:STANDARD
BEGIN:DAYLIGHT
TZOFFSETFROM:-0500
TZOFFSETTO:-0400
TZNAME:EDT
DTSTART:20210314T070000
END:DAYLIGHT
BEGIN:STANDARD
TZOFFSETFROM:-0400
TZOFFSETTO:-0500
TZNAME:EST
DTSTART:20211107T060000
END:STANDARD
BEGIN:DAYLIGHT
TZOFFSETFROM:-0500
TZOFFSETTO:-0400
TZNAME:EDT
DTSTART:20220313T070000
END:DAYLIGHT
BEGIN:STANDARD
TZOFFSETFROM:-0400
TZOFFSETTO:-0500
TZNAME:EST
DTSTART:20221106T060000
END:STANDARD
END:VTIMEZONE
BEGIN:VEVENT
DTSTART;VALUE=DATE:20210731
DTEND;VALUE=DATE:20210808
DTSTAMP:20260423T172808
CREATED:20210421T121701Z
LAST-MODIFIED:20210421T121701Z
UID:357-1627689600-1628380799@rebuildinghopeministries.org
SUMMARY:Jacob's Well
DESCRIPTION:
URL:https://rebuildinghopeministries.org/event/jacobs-well/
END:VEVENT
BEGIN:VEVENT
DTSTART;TZID=America/New_York:20210724T090000
DTEND;TZID=America/New_York:20210724T120000
DTSTAMP:20260423T172808
CREATED:20210719T105805Z
LAST-MODIFIED:20210719T105805Z
UID:425-1627117200-1627128000@rebuildinghopeministries.org
SUMMARY:Rock Bridge "Serve The City" (Dalton\, GA)
DESCRIPTION:
URL:https://rebuildinghopeministries.org/event/rock-bridge-serve-the-city-dalton-ga/
END:VEVENT
BEGIN:VEVENT
DTSTART;VALUE=DATE:20210724
DTEND;VALUE=DATE:20210731
DTSTAMP:20260423T172808
CREATED:20210325T125415Z
LAST-MODIFIED:20210325T125415Z
UID:262-1627084800-1627689599@rebuildinghopeministries.org
SUMMARY:Westwood Presbyterian (Dothan\, AL)
DESCRIPTION:
URL:https://rebuildinghopeministries.org/event/westwood-presbyterian-dothan-al/
END:VEVENT
BEGIN:VEVENT
DTSTART;VALUE=DATE:20210717
DTEND;VALUE=DATE:20210725
DTSTAMP:20260423T172808
CREATED:20210325T125324Z
LAST-MODIFIED:20210325T125324Z
UID:260-1626480000-1627171199@rebuildinghopeministries.org
SUMMARY:White Oak Presbyterian (Newnan\, GA)
DESCRIPTION:
URL:https://rebuildinghopeministries.org/event/white-oak-presbyterian-newnan-ga/
END:VEVENT
BEGIN:VEVENT
DTSTART;VALUE=DATE:20210710
DTEND;VALUE=DATE:20210718
DTSTAMP:20260423T172808
CREATED:20210527T130826Z
LAST-MODIFIED:20210527T130826Z
UID:385-1625875200-1626566399@rebuildinghopeministries.org
SUMMARY:Immanuel Presbyterian Church (DeLand\, FL)
DESCRIPTION:
URL:https://rebuildinghopeministries.org/event/immanuel-presbyterian-church-deland-fl/
END:VEVENT
BEGIN:VEVENT
DTSTART;VALUE=DATE:20210621
DTEND;VALUE=DATE:20210626
DTSTAMP:20260423T172808
CREATED:20210325T125043Z
LAST-MODIFIED:20210325T125043Z
UID:256-1624233600-1624665599@rebuildinghopeministries.org
SUMMARY:First Baptist Church (Dalton\, GA)
DESCRIPTION:
URL:https://rebuildinghopeministries.org/event/first-baptist-church-dalton-ga/
END:VEVENT
BEGIN:VEVENT
DTSTART;VALUE=DATE:20210613
DTEND;VALUE=DATE:20210619
DTSTAMP:20260423T172808
CREATED:20210325T124948Z
LAST-MODIFIED:20210325T124948Z
UID:254-1623542400-1624060799@rebuildinghopeministries.org
SUMMARY:First Presbyterian (Hattiesburg\, MS)
DESCRIPTION:
URL:https://rebuildinghopeministries.org/event/first-presbyterian-hattiesburg-ms/
END:VEVENT
BEGIN:VEVENT
DTSTART;VALUE=DATE:20210531
DTEND;VALUE=DATE:20210606
DTSTAMP:20260423T172808
CREATED:20210325T124754Z
LAST-MODIFIED:20210325T124754Z
UID:250-1622419200-1622937599@rebuildinghopeministries.org
SUMMARY:Midway Presbyterian (Powder Springs\, GA)
DESCRIPTION:
URL:https://rebuildinghopeministries.org/event/midway-presbyterian-powder-springs-ga/
END:VEVENT
BEGIN:VEVENT
DTSTART;VALUE=DATE:20210513
DTEND;VALUE=DATE:20210524
DTSTAMP:20260423T172808
CREATED:20210421T121620Z
LAST-MODIFIED:20210421T121620Z
UID:355-1620864000-1621814399@rebuildinghopeministries.org
SUMMARY:Midwest Men's Mission Team (Chicago\, IL)
DESCRIPTION:
URL:https://rebuildinghopeministries.org/event/midwest-mens-mission-team-chicago-il/
END:VEVENT
BEGIN:VEVENT
DTSTART;TZID=America/New_York:20210424T090000
DTEND;TZID=America/New_York:20210424T123000
DTSTAMP:20260423T172808
CREATED:20210325T124846Z
LAST-MODIFIED:20210325T132901Z
UID:252-1619254800-1619267400@rebuildinghopeministries.org
SUMMARY:Rock Bridge Community Church (Dalton\, GA)
DESCRIPTION:
URL:https://rebuildinghopeministries.org/event/rock-bridge-community-church-dalton-ga/
END:VEVENT
BEGIN:VEVENT
DTSTART;TZID=America/New_York:20210417T080000
DTEND;TZID=America/New_York:20210417T170000
DTSTAMP:20260423T172808
CREATED:20210325T130333Z
LAST-MODIFIED:20210325T130333Z
UID:266-1618646400-1618678800@rebuildinghopeministries.org
SUMMARY:Rock Bridge Disaster Response Training
DESCRIPTION:
URL:https://rebuildinghopeministries.org/event/rock-bridge-disaster-response-training/
END:VEVENT
END:VCALENDAR